BEGIN:VCALENDAR
VERSION:2.0
PRODID:-//hacksw/handcal//NONSGML v1.0//EN
BEGIN:VEVENT
DTSTAMP:20220326T230000Z
DTSTART:20220326T230000Z
DTEND:20220326T230000Z
SUMMARY:Landtagswahl im Saarland 
END:VEVENT
END:VCALENDAR
